BEGIN:VCALENDAR
VERSION:2.0
PRODID:spatie/icalendar-generator
DESCRIPTION:石巻進化躍進応援バザール「うんめえもん市」
 のイベント
X-WR-CALDESC:石巻進化躍進応援バザール「うんめえもん市
 」のイベント
REFRESH-INTERVAL;VALUE=DURATION:PT1440M
X-PUBLISHED-TTL:PT1440M
BEGIN:VTIMEZONE
TZID:Etc/GMT-9
BEGIN:STANDARD
DTSTART:20191123T100000Z
TZOFFSETFROM:+0900
TZOFFSETTO:+0900
END:STANDARD
END:VTIMEZONE
BEGIN:VTIMEZONE
TZID:UTC
BEGIN:STANDARD
DTSTART:20250724T183508Z
TZOFFSETFROM:+0000
TZOFFSETTO:+0000
END:STANDARD
END:VTIMEZONE
BEGIN:VEVENT
UID:285-279
DTSTAMP:20260420T183508Z
SUMMARY:南区役所開催
LOCATION:
ORGANIZER;CN=owada:MAILTO:owada@k2-inter.com
DTSTART;TZID=Etc/GMT-9:20200819T100000
DTEND;TZID=Etc/GMT-9:20200819T160000
X-ALT-DESC;FMTTYPE=TEXT/HTML:
CATEGORIES:General
URL;VALUE=URI:https://unmeemon.com/mc-events/%e5%8d%97%e5%8c%ba%e5%bd%b9%e6
 %89%80%e9%96%8b%e5%82%ac-5
METHOD:PUBLISH
END:VEVENT
END:VCALENDAR