BEGIN:VCALENDAR
VERSION:2.0
PRODID:spatie/icalendar-generator
DESCRIPTION:石巻進化躍進応援バザール「うんめえもん市」
 のイベント
X-WR-CALDESC:石巻進化躍進応援バザール「うんめえもん市
 」のイベント
REFRESH-INTERVAL;VALUE=DURATION:PT1440M
X-PUBLISHED-TTL:PT1440M
BEGIN:VTIMEZONE
TZID:Etc/GMT-9
BEGIN:STANDARD
DTSTART:20191109T100000Z
TZOFFSETFROM:+0900
TZOFFSETTO:+0900
END:STANDARD
END:VTIMEZONE
BEGIN:VTIMEZONE
TZID:UTC
BEGIN:STANDARD
DTSTART:20250724T171755Z
TZOFFSETFROM:+0000
TZOFFSETTO:+0000
END:STANDARD
END:VTIMEZONE
BEGIN:VEVENT
UID:281-275
DTSTAMP:20260420T171755Z
SUMMARY:瀬谷区役所開催
LOCATION:
ORGANIZER;CN=owada:MAILTO:owada@k2-inter.com
DTSTART;TZID=Etc/GMT-9:20200805T100000
DTEND;TZID=Etc/GMT-9:20200805T140000
X-ALT-DESC;FMTTYPE=TEXT/HTML:
CATEGORIES:General
URL;VALUE=URI:https://unmeemon.com/mc-events/%e7%80%ac%e8%b0%b7%e5%8c%ba%e5
 %bd%b9%e6%89%80%e9%96%8b%e5%82%ac-7
METHOD:PUBLISH
END:VEVENT
END:VCALENDAR