BEGIN:VCALENDAR
VERSION:2.0
PRODID:spatie/icalendar-generator
DESCRIPTION:石巻進化躍進応援バザール「うんめえもん市」
 のイベント
X-WR-CALDESC:石巻進化躍進応援バザール「うんめえもん市
 」のイベント
REFRESH-INTERVAL;VALUE=DURATION:PT1440M
X-PUBLISHED-TTL:PT1440M
BEGIN:VTIMEZONE
TZID:Etc/GMT-9
BEGIN:STANDARD
DTSTART:20190627T000000Z
TZOFFSETFROM:+0900
TZOFFSETTO:+0900
END:STANDARD
END:VTIMEZONE
BEGIN:VTIMEZONE
TZID:UTC
BEGIN:STANDARD
DTSTART:20250724T155921Z
TZOFFSETFROM:+0000
TZOFFSETTO:+0000
END:STANDARD
END:VTIMEZONE
BEGIN:VEVENT
UID:239-233
DTSTAMP:20260420T155921Z
SUMMARY:泰生ポーチ
LOCATION:
ORGANIZER;CN=owada:MAILTO:owada@k2-inter.com
DTSTART;TZID=Etc/GMT-9;VALUE=DATE:20200323
DTEND;TZID=Etc/GMT-9;VALUE=DATE:20200324
X-ALT-DESC;FMTTYPE=TEXT/HTML:
CATEGORIES:General
URL;VALUE=URI:https://unmeemon.com/mc-events/%e6%b3%b0%e7%94%9f%e3%83%9d%e3
 %83%bc%e3%83%81-2
METHOD:PUBLISH
END:VEVENT
END:VCALENDAR