BEGIN:VCALENDAR
VERSION:2.0
PRODID:spatie/icalendar-generator
DESCRIPTION:石巻進化躍進応援バザール「うんめえもん市」
 のイベント
X-WR-CALDESC:石巻進化躍進応援バザール「うんめえもん市
 」のイベント
REFRESH-INTERVAL;VALUE=DURATION:PT1440M
X-PUBLISHED-TTL:PT1440M
BEGIN:VTIMEZONE
TZID:Etc/GMT-9
BEGIN:STANDARD
DTSTART:20180717T100000Z
TZOFFSETFROM:+0900
TZOFFSETTO:+0900
END:STANDARD
END:VTIMEZONE
BEGIN:VTIMEZONE
TZID:UTC
BEGIN:STANDARD
DTSTART:20250724T142711Z
TZOFFSETFROM:+0000
TZOFFSETTO:+0000
END:STANDARD
END:VTIMEZONE
BEGIN:VEVENT
UID:146-140
DTSTAMP:20260420T142711Z
SUMMARY:マルシェ
LOCATION:モンビル横浜根岸 磯子区東町15-32 モンビル 横浜
 市 神奈川県 235-0005
ORGANIZER;CN=owada:MAILTO:owada@k2-inter.com
DTSTART;TZID=Etc/GMT-9:20190413T100000
DTEND;TZID=Etc/GMT-9:20190413T140000
X-ALT-DESC;FMTTYPE=TEXT/HTML:
CATEGORIES:General
URL;VALUE=URI:https://unmeemon.com/mc-events/%e3%83%9e%e3%83%ab%e3%82%b7%e3
 %82%a7
METHOD:PUBLISH
END:VEVENT
END:VCALENDAR