BEGIN:VCALENDAR
VERSION:2.0
PRODID:spatie/icalendar-generator
DESCRIPTION:石巻進化躍進応援バザール「うんめえもん市」
 のイベント
X-WR-CALDESC:石巻進化躍進応援バザール「うんめえもん市
 」のイベント
REFRESH-INTERVAL;VALUE=DURATION:PT1440M
X-PUBLISHED-TTL:PT1440M
BEGIN:VTIMEZONE
TZID:Etc/GMT-9
BEGIN:STANDARD
DTSTART:20180730T100000Z
TZOFFSETFROM:+0900
TZOFFSETTO:+0900
END:STANDARD
END:VTIMEZONE
BEGIN:VTIMEZONE
TZID:UTC
BEGIN:STANDARD
DTSTART:20250724T160009Z
TZOFFSETFROM:+0000
TZOFFSETTO:+0000
END:STANDARD
END:VTIMEZONE
BEGIN:VEVENT
UID:145-139
DTSTAMP:20260420T160009Z
SUMMARY:都筑区役所
LOCATION:都筑区役所 都筑区茅ケ崎中央32-1 横浜市都筑区役
 所 横浜市 神奈川県 224-0032
ORGANIZER;CN=owada:MAILTO:owada@k2-inter.com
DTSTART;TZID=Etc/GMT-9:20190426T100000
DTEND;TZID=Etc/GMT-9:20190426T160000
X-ALT-DESC;FMTTYPE=TEXT/HTML:
CATEGORIES:General
URL;VALUE=URI:https://unmeemon.com/mc-events/%e9%83%bd%e7%ad%91%e5%8c%ba%e5
 %bd%b9%e6%89%80-10
METHOD:PUBLISH
END:VEVENT
END:VCALENDAR